BEGIN:VCALENDAR
VERSION:2.0
PRODID:-//Edlio Inc//Edlio Calendar//EN
CALSCALE:GREGORIAN
METHOD:PUBLISH
X-WR-CALNAME:C Hamilton Middle School - Hamilton High Events
X-ORIGINAL-URL:https://www.hamiltonmiddle.org
X-WR-CALDESC:Events calendar for www.hamiltonmiddle.org
X-WR-TIMEZONE:US/Pacific
REFRESH-INTERVAL;VALUE=DURATION:PT1H
X-Robots-Tag:noindex
X-PUBLISHED-TTL:PT1H
BEGIN:VTIMEZONE
TZID:US/Pacific
BEGIN:STANDARD
TZOFFSETFROM:-0700
TZOFFSETTO:-0800
DTSTART:20071104T020000
RRULE:FREQ=YEARLY;BYMONTH=11;BYDAY=1SU
END:STANDARD
BEGIN:DAYLIGHT
TZOFFSETFROM:-0800
TZOFFSETTO:-0700
DTSTART:20070311T020000
RRULE:FREQ=YEARLY;BYMONTH=3;BYDAY=2SU
END:DAYLIGHT
END:VTIMEZONE
BEGIN:VTIMEZONE
TZID:US/East-Indiana
BEGIN:STANDARD
TZOFFSETFROM:-0500
TZOFFSETTO:-0500
DTSTART:19701025T020000
END:STANDARD
END:VTIMEZONE
BEGIN:VTIMEZONE
TZID:US/Eastern
BEGIN:STANDARD
TZOFFSETFROM:-0400
TZOFFSETTO:-0500
DTSTART:19701025T020000
RRULE:FREQ=YEARLY;BYMONTH=10;BYDAY=-1SU;UNTIL=20070311T020000
END:STANDARD
BEGIN:STANDARD
TZOFFSETFROM:-0400
TZOFFSETTO:-0500
DTSTART:20071104T020000
RRULE:FREQ=YEARLY;BYMONTH=11;BYDAY=1SU
END:STANDARD
BEGIN:DAYLIGHT
TZOFFSETFROM:-0500
TZOFFSETTO:-0400
DTSTART:19870405T020000
RRULE:FREQ=YEARLY;BYMONTH=4;BYDAY=1SU;UNTIL=20061029T020000
END:DAYLIGHT
BEGIN:DAYLIGHT
TZOFFSETFROM:-0500
TZOFFSETTO:-0400
DTSTART:20070311T020000
RRULE:FREQ=YEARLY;BYMONTH=3;BYDAY=2SU
END:DAYLIGHT
END:VTIMEZONE
BEGIN:VTIMEZONE
TZID:US/Michigan
BEGIN:STANDARD
TZOFFSETFROM:-0400
TZOFFSETTO:-0500
DTSTART:19701025T020000
RRULE:FREQ=YEARLY;BYMONTH=10;BYDAY=-1SU;UNTIL=20070311T020000
END:STANDARD
BEGIN:STANDARD
TZOFFSETFROM:-0400
TZOFFSETTO:-0500
DTSTART:20071104T020000
RRULE:FREQ=YEARLY;BYMONTH=11;BYDAY=1SU
END:STANDARD
BEGIN:DAYLIGHT
TZOFFSETFROM:-0500
TZOFFSETTO:-0400
DTSTART:19870405T020000
RRULE:FREQ=YEARLY;BYMONTH=4;BYDAY=1SU;UNTIL=20061029T020000
END:DAYLIGHT
BEGIN:DAYLIGHT
TZOFFSETFROM:-0500
TZOFFSETTO:-0400
DTSTART:20070311T020000
RRULE:FREQ=YEARLY;BYMONTH=3;BYDAY=2SU
END:DAYLIGHT
END:VTIMEZONE
BEGIN:VTIMEZONE
TZID:US/Central
BEGIN:STANDARD
TZOFFSETFROM:-0500
TZOFFSETTO:-0600
DTSTART:19701025T020000
RRULE:FREQ=YEARLY;BYMONTH=10;BYDAY=-1SU;UNTIL=20070311T020000
END:STANDARD
BEGIN:STANDARD
TZOFFSETFROM:-0500
TZOFFSETTO:-0600
DTSTART:20071104T020000
RRULE:FREQ=YEARLY;BYMONTH=11;BYDAY=1SU
END:STANDARD
BEGIN:DAYLIGHT
TZOFFSETFROM:-0600
TZOFFSETTO:-0500
DTSTART:19870405T020000
RRULE:FREQ=YEARLY;BYMONTH=4;BYDAY=1SU;UNTIL=20061029T020000
END:DAYLIGHT
BEGIN:DAYLIGHT
TZOFFSETFROM:-0600
TZOFFSETTO:-0500
DTSTART:20070311T020000
RRULE:FREQ=YEARLY;BYMONTH=3;BYDAY=2SU
END:DAYLIGHT
END:VTIMEZONE
BEGIN:VTIMEZONE
TZID:US/Mountain
BEGIN:STANDARD
TZOFFSETFROM:-0600
TZOFFSETTO:-0700
DTSTART:19701025T020000
RRULE:FREQ=YEARLY;BYMONTH=10;BYDAY=-1SU;UNTIL=20070311T020000
END:STANDARD
BEGIN:STANDARD
TZOFFSETFROM:-0600
TZOFFSETTO:-0700
DTSTART:20071104T020000
RRULE:FREQ=YEARLY;BYMONTH=11;BYDAY=1SU
END:STANDARD
BEGIN:DAYLIGHT
TZOFFSETFROM:-0700
TZOFFSETTO:-0600
DTSTART:19870405T020000
RRULE:FREQ=YEARLY;BYMONTH=4;BYDAY=1SU;UNTIL=20061029T020000
END:DAYLIGHT
BEGIN:DAYLIGHT
TZOFFSETFROM:-0700
TZOFFSETTO:-0600
DTSTART:20070311T020000
RRULE:FREQ=YEARLY;BYMONTH=3;BYDAY=2SU
END:DAYLIGHT
END:VTIMEZONE
BEGIN:VTIMEZONE
TZID:US/Arizona
BEGIN:STANDARD
TZOFFSETFROM:-0700
TZOFFSETTO:-0700
DTSTART:19701025T020000
END:STANDARD
END:VTIMEZONE
BEGIN:VTIMEZONE
TZID:US/Pacific
BEGIN:STANDARD
TZOFFSETFROM:-0700
TZOFFSETTO:-0800
DTSTART:19701025T020000
RRULE:FREQ=YEARLY;BYMONTH=10;BYDAY=-1SU;UNTIL=20070311T020000
END:STANDARD
BEGIN:STANDARD
TZOFFSETFROM:-0700
TZOFFSETTO:-0800
DTSTART:20071104T020000
RRULE:FREQ=YEARLY;BYMONTH=11;BYDAY=1SU
END:STANDARD
BEGIN:DAYLIGHT
TZOFFSETFROM:-0800
TZOFFSETTO:-0700
DTSTART:19870405T020000
RRULE:FREQ=YEARLY;BYMONTH=4;BYDAY=1SU;UNTIL=20061029T020000
END:DAYLIGHT
BEGIN:DAYLIGHT
TZOFFSETFROM:-0800
TZOFFSETTO:-0700
DTSTART:20070311T020000
RRULE:FREQ=YEARLY;BYMONTH=3;BYDAY=2SU
END:DAYLIGHT
END:VTIMEZONE
BEGIN:VTIMEZONE
TZID:US/Alaska
BEGIN:STANDARD
TZOFFSETFROM:-0800
TZOFFSETTO:-0900
DTSTART:19701025T020000
RRULE:FREQ=YEARLY;BYMONTH=10;BYDAY=-1SU;UNTIL=20070311T020000
END:STANDARD
BEGIN:STANDARD
TZOFFSETFROM:-0800
TZOFFSETTO:-0900
DTSTART:20071104T020000
RRULE:FREQ=YEARLY;BYMONTH=11;BYDAY=1SU
END:STANDARD
BEGIN:DAYLIGHT
TZOFFSETFROM:-0900
TZOFFSETTO:-0800
DTSTART:19870405T020000
RRULE:FREQ=YEARLY;BYMONTH=4;BYDAY=1SU;UNTIL=20061029T020000
END:DAYLIGHT
BEGIN:DAYLIGHT
TZOFFSETFROM:-0900
TZOFFSETTO:-0800
DTSTART:20070311T020000
RRULE:FREQ=YEARLY;BYMONTH=3;BYDAY=2SU
END:DAYLIGHT
END:VTIMEZONE
BEGIN:VTIMEZONE
TZID:US/Hawaii
BEGIN:STANDARD
TZOFFSETFROM:-1000
TZOFFSETTO:-1000
DTSTART:19701025T020000
END:STANDARD
END:VTIMEZONE
BEGIN:VTIMEZONE
TZID:US/Aleutian
BEGIN:STANDARD
TZOFFSETFROM:-1000
TZOFFSETTO:-1000
DTSTART:19701025T020000
END:STANDARD
END:VTIMEZONE
BEGIN:VTIMEZONE
TZID:US/Samoa
BEGIN:STANDARD
TZOFFSETFROM:-1100
TZOFFSETTO:-1100
DTSTART:19701025T020000
END:STANDARD
END:VTIMEZONE
BEGIN:VEVENT
UID:5235573@www.hamiltonmiddle.org#20180813
SEQUENCE:0
CREATED:20180806T215746Z
LAST-MODIFIED:20180806T215746Z
DTSTART;VALUE=DATE:20180813
DURATION:P1D
RRULE:FREQ=YEARLY;BYMONTH=8,12;BYDAY=2MO;WKST=SU
SUMMARY:Book Drive to Start the New Year.
LOCATION:School Gym
CATEGORIES:Hamilton High Events
DESCRIPTION:Start the year off right by bringing in extra books for younger
  students.\n<a href=' https://www.hamiltonmiddle.org/apps/events/5235573/'
 >Read more</a>
URL:https://www.hamiltonmiddle.org/apps/events/5235573/
ORGANIZER;CN="Edlio Calendar":MAILTO:noreply@www.hamiltonmiddle.org
DTSTAMP:20260424T185431Z
END:VEVENT
BEGIN:VEVENT
UID:6122557@www.hamiltonmiddle.org#20190114
SEQUENCE:1
CREATED:20230612T173933Z
LAST-MODIFIED:20230612T173933Z
DTSTART;TZID=US/Pacific:20190114T090000
DTEND;TZID=US/Pacific:20190114T100000
RRULE:FREQ=MONTHLY;BYDAY=1TH;WKST=SU
SUMMARY:Faculty Meeting 
LOCATION:Library
CATEGORIES:Hamilton High Events
DESCRIPTION:Meet with team\nhttp://www.google.com\n<a href=' https://www.ha
 miltonmiddle.org/apps/events/6122557/'>Read more</a>
URL:https://www.hamiltonmiddle.org/apps/events/6122557/
ORGANIZER;CN="Edlio Calendar":MAILTO:noreply@www.hamiltonmiddle.org
DTSTAMP:20260424T185431Z
END:VEVENT
BEGIN:VEVENT
UID:4605972@www.hamiltonmiddle.org#20180228
SEQUENCE:0
CREATED:20180221T152823Z
LAST-MODIFIED:20180221T152823Z
DTSTART;TZID=US/Pacific:20180228T090000
DTEND;TZID=US/Pacific:20180228T100000
RRULE:FREQ=MONTHLY;BYMONTHDAY=31;WKST=SU
SUMMARY:Open enrollment
CATEGORIES:Hamilton High Events
URL:https://www.hamiltonmiddle.org/apps/events/4605972/
ORGANIZER;CN="Edlio Calendar":MAILTO:noreply@www.hamiltonmiddle.org
DTSTAMP:20260424T185431Z
END:VEVENT
BEGIN:VEVENT
UID:35326635@www.hamiltonmiddle.org#20251010
SEQUENCE:0
CREATED:20251010T181721Z
LAST-MODIFIED:20251010T181721Z
DTSTART;TZID=US/Pacific:20251010T110000
DTEND;TZID=US/Pacific:20251010T120000
SUMMARY:My Test Event
CATEGORIES:Hamilton High Events
URL:https://www.hamiltonmiddle.org/apps/events/35326635/
ORGANIZER;CN="Edlio Calendar":MAILTO:noreply@www.hamiltonmiddle.org
DTSTAMP:20260424T185431Z
END:VEVENT
BEGIN:VEVENT
UID:5780022@www.hamiltonmiddle.org#20181018
SEQUENCE:3
CREATED:20230612T174332Z
LAST-MODIFIED:20230612T174332Z
DTSTART;TZID=US/Pacific:20181018T110000
DTEND;TZID=US/Pacific:20181018T120000
EXDATE;TZID=US/Pacific:20210506T110000
RRULE:FREQ=WEEKLY;BYDAY=TH;WKST=SU
SUMMARY:Staff Meeting
CATEGORIES:Hamilton High Events
URL:https://www.hamiltonmiddle.org/apps/events/5780022/
ORGANIZER;CN="Edlio Calendar":MAILTO:noreply@www.hamiltonmiddle.org
DTSTAMP:20260424T185431Z
END:VEVENT
BEGIN:VEVENT
UID:3517791@www.hamiltonmiddle.org#20170407
SEQUENCE:1
CREATED:20170412T031747Z
LAST-MODIFIED:20170412T031747Z
DTSTART;TZID=US/Pacific:20170407T130000
DTEND;TZID=US/Pacific:20170407T140000
EXDATE;TZID=US/Pacific:20170407T130000
RRULE:FREQ=YEARLY;BYMONTH=6;BYDAY=3TU;WKST=SU
SUMMARY:Testing123
CATEGORIES:Hamilton High Events
DESCRIPTION:Testing\n<a href=' https://www.hamiltonmiddle.org/apps/events/3
 517791/'>Read more</a>
URL:https://www.hamiltonmiddle.org/apps/events/3517791/
ORGANIZER;CN="Edlio Calendar":MAILTO:noreply@www.hamiltonmiddle.org
DTSTAMP:20260424T185431Z
END:VEVENT
BEGIN:VEVENT
UID:6443676@www.hamiltonmiddle.org#20190410
SEQUENCE:7
CREATED:20230418T162553Z
LAST-MODIFIED:20230418T162553Z
DTSTART;TZID=US/Pacific:20190410T130000
DTEND;TZID=US/Pacific:20190410T130000
EXDATE;TZID=US/Pacific:20190409T130000
EXDATE;TZID=US/Pacific:20200722T130000
RRULE:FREQ=WEEKLY;BYDAY=WE;WKST=SU
SUMMARY:Weekly Early Dismissallllll
LOCATION:T E S T
CATEGORIES:Hamilton High Events
DESCRIPTION:Early Dismissal - 1:00pm\n<a href=' https://www.hamiltonmiddle.
 org/apps/events/6443676/'>Read more</a>
URL:https://www.hamiltonmiddle.org/apps/events/6443676/
ORGANIZER;CN="Edlio Calendar":MAILTO:noreply@www.hamiltonmiddle.org
DTSTAMP:20260424T185431Z
END:VEVENT
BEGIN:VEVENT
UID:6144580@www.hamiltonmiddle.org#20190121
SEQUENCE:1
CREATED:20200715T221528Z
LAST-MODIFIED:20200715T221528Z
DTSTART;TZID=US/Pacific:20190121T140000
DTEND;TZID=US/Pacific:20190121T150000
RRULE:FREQ=WEEKLY;BYDAY=MO;WKST=SU
SUMMARY:New Time - After School Ceramics 
LOCATION:Cafeteria
CATEGORIES:Hamilton High Events
DESCRIPTION:(Closed on Early Release Days and holidays)<br>Students may lea
 ve early\, but must have a ride home. Students may not remain on campus un
 supervised after 5pm.<br>Location: Art Room (D5/D8)<br>Cost: $60 per acade
 mic year per student or $30/semester. This goes to additional clay<br>and 
 supplies for th\n<a href=' https://www.hamiltonmiddle.org/apps/events/6144
 580/'>Read more</a>
URL:https://www.hamiltonmiddle.org/apps/events/6144580/
ORGANIZER;CN="Edlio Calendar":MAILTO:noreply@www.hamiltonmiddle.org
DTSTAMP:20260424T185431Z
END:VEVENT
BEGIN:VEVENT
UID:31314519@www.hamiltonmiddle.org#20250813
SEQUENCE:0
CREATED:20250813T125602Z
LAST-MODIFIED:20250813T125602Z
DTSTART;TZID=US/Pacific:20250813T150000
DTEND;TZID=US/Pacific:20250813T160000
SUMMARY:Tanya's event 2
CATEGORIES:Hamilton High Events
DESCRIPTION:test\n<a href=' https://www.hamiltonmiddle.org/apps/events/3131
 4519/'>Read more</a>
URL:https://www.hamiltonmiddle.org/apps/events/31314519/
ORGANIZER;CN="Edlio Calendar":MAILTO:noreply@www.hamiltonmiddle.org
DTSTAMP:20260424T185431Z
END:VEVENT
BEGIN:VEVENT
UID:31265838@www.hamiltonmiddle.org#20250812
SEQUENCE:0
CREATED:20250812T130955Z
LAST-MODIFIED:20250812T130955Z
DTSTART;TZID=US/Pacific:20250812T160000
DTEND;TZID=US/Pacific:20250812T170000
SUMMARY:Tanya's event 1
CATEGORIES:Hamilton High Events
DESCRIPTION:details\n<a href=' https://www.hamiltonmiddle.org/apps/events/3
 1265838/'>Read more</a>
URL:https://www.hamiltonmiddle.org/apps/events/31265838/
ORGANIZER;CN="Edlio Calendar":MAILTO:noreply@www.hamiltonmiddle.org
DTSTAMP:20260424T185431Z
END:VEVENT
BEGIN:VEVENT
UID:30997026@www.hamiltonmiddle.org#20250806
SEQUENCE:0
CREATED:20250806T234838Z
LAST-MODIFIED:20250806T234838Z
DTSTART;TZID=US/Pacific:20250806T160000
DTEND;TZID=US/Pacific:20250806T170000
SUMMARY:test
CATEGORIES:Hamilton High Events
URL:https://www.hamiltonmiddle.org/apps/events/30997026/
ORGANIZER;CN="Edlio Calendar":MAILTO:noreply@www.hamiltonmiddle.org
DTSTAMP:20260424T185431Z
END:VEVENT
BEGIN:VEVENT
UID:5250997@www.hamiltonmiddle.org#20180817
SEQUENCE:4
CREATED:20240509T204934Z
LAST-MODIFIED:20240509T204934Z
DTSTART;TZID=US/Pacific:20180817T180000
DTEND;TZID=US/Pacific:20180817T193000
RRULE:FREQ=WEEKLY;BYDAY=FR;WKST=SU
SUMMARY:Parent Teacher Association (PTA) Meetings
LOCATION:EG Gymnasium
CATEGORIES:Hamilton High Events
DESCRIPTION:Join us every Friday to engage in and contribute to this year's
  conversation about expectations\, programs\, resources\, and initiatives 
 at EMS. <br><br>PTA's mission is to make every child&#8217\;s potential a 
 reality by engaging and empowering families and communities to advocate fo
 r all children.\n<a href=' https://www.hamiltonmiddle.org/apps/events/5250
 997/'>Read more</a>
URL:https://www.hamiltonmiddle.org/apps/events/5250997/
ORGANIZER;CN="Edlio Calendar":MAILTO:noreply@www.hamiltonmiddle.org
DTSTAMP:20260424T185431Z
END:VEVENT
END:VCALENDAR
